Package: escape Version: 2.4.0 Command: rm -rf escape.buildbin-libdir && mkdir escape.buildbin-libdir && /Users/biocbuild/BBS/utils/build-universal.sh escape_2.4.0.tar.gz /Library/Frameworks/R.framework/Resources/bin/R escape.buildbin-libdir StartedAt: 2025-10-14 13:24:23 -0400 (Tue, 14 Oct 2025) EndedAt: 2025-10-14 13:26:46 -0400 (Tue, 14 Oct 2025) EllapsedTime: 143.2 seconds RetCode: 0 Status: OK PackageFile: escape_2.4.0.tgz PackageFileSize: 1.759 MiB