Package: escape Version: 2.4.0 Command: /home/biocbuild/R/R/bin/R CMD check --install=check:escape.install-out.txt --library=/home/biocbuild/R/R/site-library --no-vignettes --timings escape_2.4.0.tar.gz StartedAt: 2025-10-07 09:16:14 -0000 (Tue, 07 Oct 2025) EndedAt: 2025-10-07 09:28:49 -0000 (Tue, 07 Oct 2025) EllapsedTime: 755.6 seconds RetCode: 0 Status: OK CheckDir: escape.Rcheck Warnings: 0