Package: escape Version: 2.4.0 Command: rm -rf escape.buildbin-libdir && mkdir escape.buildbin-libdir && /Users/biocbuild/BBS/utils/build-universal.sh escape_2.4.0.tar.gz /Library/Frameworks/R.framework/Resources/bin/R escape.buildbin-libdir StartedAt: 2025-10-15 18:26:53 -0400 (Wed, 15 Oct 2025) EndedAt: 2025-10-15 18:27:53 -0400 (Wed, 15 Oct 2025) EllapsedTime: 60.7 seconds RetCode: 0 Status: OK PackageFile: escape_2.4.0.tgz PackageFileSize: 1.756 MiB