Package: erma Version: 1.24.1 Command: E:\biocbuild\bbs-3.21-bioc\R\bin\R.exe CMD check --no-multiarch --install=check:erma.install-out.txt --library=E:\biocbuild\bbs-3.21-bioc\R\library --no-vignettes --timings erma_1.24.1.tar.gz StartedAt: 2025-08-15 02:00:11 -0400 (Fri, 15 Aug 2025) EndedAt: 2025-08-15 02:09:45 -0400 (Fri, 15 Aug 2025) EllapsedTime: 573.9 seconds RetCode: 0 Status: OK CheckDir: erma.Rcheck Warnings: 0