Package: erma Version: 1.24.1 Command: chmod a+r erma -R && E:\biocbuild\bbs-3.21-bioc\R\bin\R.exe CMD build --keep-empty-dirs --no-resave-data erma StartedAt: 2025-08-14 18:56:45 -0400 (Thu, 14 Aug 2025) EndedAt: 2025-08-14 18:58:30 -0400 (Thu, 14 Aug 2025) EllapsedTime: 104.2 seconds RetCode: 0 Status: OK PackageFile: erma_1.24.1.tar.gz PackageFileSize: 198 MiB