Package: erma Version: 1.24.1 Command: rm -rf erma.buildbin-libdir && mkdir erma.buildbin-libdir && E:\biocbuild\bbs-3.21-bioc\R\bin\R.exe CMD INSTALL --build --library=erma.buildbin-libdir erma_1.24.1.tar.gz StartedAt: 2025-08-15 09:15:51 -0400 (Fri, 15 Aug 2025) EndedAt: 2025-08-15 09:17:18 -0400 (Fri, 15 Aug 2025) EllapsedTime: 87.2 seconds RetCode: 0 Status: OK PackageFile: erma_1.24.1.zip PackageFileSize: 198.3 MiB