Package: erma Version: 1.24.1 Command: /Library/Frameworks/R.framework/Resources/bin/R CMD INSTALL erma StartedAt: 2025-10-06 16:47:21 -0400 (Mon, 06 Oct 2025) EndedAt: 2025-10-06 16:49:07 -0400 (Mon, 06 Oct 2025) EllapsedTime: 105.9 seconds RetCode: 0 Status: OK