Package: erccdashboard Version: 1.43.0 Command: F:\biocbuild\bbs-3.22-bioc\R\bin\R.exe CMD check --no-multiarch --install=check:erccdashboard.install-out.txt --library=F:\biocbuild\bbs-3.22-bioc\R\library --no-vignettes --timings erccdashboard_1.43.0.tar.gz StartedAt: 2025-08-15 03:05:22 -0400 (Fri, 15 Aug 2025) EndedAt: 2025-08-15 03:06:47 -0400 (Fri, 15 Aug 2025) EllapsedTime: 84.9 seconds RetCode: 0 Status: OK CheckDir: erccdashboard.Rcheck Warnings: 0