Package: erccdashboard Version: 1.44.0 Command: /home/biocbuild/bbs-3.22-bioc/R/bin/R CMD build --keep-empty-dirs --no-resave-data --md5 erccdashboard StartedAt: 2025-11-20 18:24:43 -0500 (Thu, 20 Nov 2025) EndedAt: 2025-11-20 18:25:33 -0500 (Thu, 20 Nov 2025) EllapsedTime: 50.0 seconds RetCode: 0 Status: OK PackageFile: erccdashboard_1.44.0.tar.gz PackageFileSize: 2.033 MiB