Package: epivizrStandalone Version: 1.38.0 Command: /Library/Frameworks/R.framework/Resources/bin/R CMD build --keep-empty-dirs --no-resave-data epivizrStandalone StartedAt: 2025-11-20 19:57:50 -0500 (Thu, 20 Nov 2025) EndedAt: 2025-11-20 19:59:13 -0500 (Thu, 20 Nov 2025) EllapsedTime: 82.8 seconds RetCode: 0 Status: OK PackageFile: epivizrStandalone_1.38.0.tar.gz PackageFileSize: 220 KiB