Package: epivizrStandalone Version: 1.38.0 Command: /Library/Frameworks/R.framework/Resources/bin/R CMD check --install=check:epivizrStandalone.install-out.txt --library=/Library/Frameworks/R.framework/Resources/library --no-vignettes --timings epivizrStandalone_1.38.0.tar.gz StartedAt: 2025-11-03 21:05:52 -0500 (Mon, 03 Nov 2025) EndedAt: 2025-11-03 21:12:30 -0500 (Mon, 03 Nov 2025) EllapsedTime: 397.8 seconds RetCode: 0 Status: WARNINGS CheckDir: epivizrStandalone.Rcheck Warnings: 2