Package: epivizrStandalone Version: 1.38.0 Command: /Library/Frameworks/R.framework/Resources/bin/R CMD INSTALL epivizrStandalone StartedAt: 2025-11-10 15:23:57 -0500 (Mon, 10 Nov 2025) EndedAt: 2025-11-10 15:24:14 -0500 (Mon, 10 Nov 2025) EllapsedTime: 17.0 seconds RetCode: 0 Status: OK