Package: epivizrStandalone Version: 1.38.0 Command: /Library/Frameworks/R.framework/Resources/bin/R CMD build --keep-empty-dirs --no-resave-data epivizrStandalone StartedAt: 2025-11-10 16:21:34 -0500 (Mon, 10 Nov 2025) EndedAt: 2025-11-10 16:21:52 -0500 (Mon, 10 Nov 2025) EllapsedTime: 18.2 seconds RetCode: 0 Status: OK PackageFile: epivizrStandalone_1.38.0.tar.gz PackageFileSize: 269.2 KiB