Package: epivizrStandalone Version: 1.38.0 Command: rm -rf epivizrStandalone.buildbin-libdir && mkdir epivizrStandalone.buildbin-libdir && /Users/biocbuild/BBS/utils/build-universal.sh epivizrStandalone_1.38.0.tar.gz /Library/Frameworks/R.framework/Resources/bin/R epivizrStandalone.buildbin-libdir StartedAt: 2025-11-10 23:19:32 -0500 (Mon, 10 Nov 2025) EndedAt: 2025-11-10 23:19:50 -0500 (Mon, 10 Nov 2025) EllapsedTime: 18.3 seconds RetCode: 0 Status: OK PackageFile: epivizrStandalone_1.38.0.tgz PackageFileSize: 298.8 KiB