Package: epivizr Version: 2.39.0 Command: /home/biocbuild/R/R/bin/R CMD build --keep-empty-dirs --no-resave-data epivizr StartedAt: 2025-10-20 23:39:43 -0000 (Mon, 20 Oct 2025) EndedAt: 2025-10-20 23:41:11 -0000 (Mon, 20 Oct 2025) EllapsedTime: 88.0 seconds RetCode: 0 Status: OK PackageFile: epivizr_2.39.0.tar.gz PackageFileSize: 1.222 MiB