Package: epistasisGA Version: 1.11.2 Command: /home/biocbuild/R/R/bin/R CMD check --install=check:epistasisGA.install-out.txt --library=/home/biocbuild/R/R/site-library --no-vignettes --timings epistasisGA_1.11.2.tar.gz StartedAt: 2025-10-17 08:43:59 -0000 (Fri, 17 Oct 2025) EndedAt: 2025-10-17 08:47:36 -0000 (Fri, 17 Oct 2025) EllapsedTime: 217.2 seconds RetCode: 0 Status: WARNINGS CheckDir: epistasisGA.Rcheck Warnings: 1