Package: epistasisGA Version: 1.11.2 Command: /home/biocbuild/R/R/bin/R CMD build --keep-empty-dirs --no-resave-data epistasisGA StartedAt: 2025-10-20 23:39:25 -0000 (Mon, 20 Oct 2025) EndedAt: 2025-10-20 23:43:45 -0000 (Mon, 20 Oct 2025) EllapsedTime: 260.1 seconds RetCode: 0 Status: OK PackageFile: epistasisGA_1.11.2.tar.gz PackageFileSize: 1.668 MiB