Package: epistasisGA Version: 1.12.0 Command: /home/biocbuild/bbs-3.22-bioc/R/bin/R CMD build --keep-empty-dirs --no-resave-data --md5 epistasisGA StartedAt: 2025-11-06 17:32:46 -0500 (Thu, 06 Nov 2025) EndedAt: 2025-11-06 17:36:14 -0500 (Thu, 06 Nov 2025) EllapsedTime: 208.1 seconds RetCode: 0 Status: OK PackageFile: epistasisGA_1.12.0.tar.gz PackageFileSize: 2.035 MiB