Package: epistack Version: 1.14.0 Command: E:\biocbuild\bbs-3.21-bioc\R\bin\R.exe CMD check --no-multiarch --install=check:epistack.install-out.txt --library=E:\biocbuild\bbs-3.21-bioc\R\library --no-vignettes --timings epistack_1.14.0.tar.gz StartedAt: 2025-08-15 01:57:54 -0400 (Fri, 15 Aug 2025) EndedAt: 2025-08-15 02:01:22 -0400 (Fri, 15 Aug 2025) EllapsedTime: 207.8 seconds RetCode: 0 Status: OK CheckDir: epistack.Rcheck Warnings: 0