Package: epistack Version: 1.14.0 Command: chmod a+r epistack -R && E:\biocbuild\bbs-3.21-bioc\R\bin\R.exe CMD build --keep-empty-dirs --no-resave-data epistack StartedAt: 2025-08-14 18:53:06 -0400 (Thu, 14 Aug 2025) EndedAt: 2025-08-14 19:06:52 -0400 (Thu, 14 Aug 2025) EllapsedTime: 826.2 seconds RetCode: 0 Status: OK PackageFile: epistack_1.14.0.tar.gz PackageFileSize: 3.189 MiB