Package: epistack Version: 1.14.0 Command: /home/biocbuild/bbs-3.21-bioc/R/bin/R CMD INSTALL epistack StartedAt: 2025-10-15 15:20:25 -0400 (Wed, 15 Oct 2025) EndedAt: 2025-10-15 15:20:44 -0400 (Wed, 15 Oct 2025) EllapsedTime: 19.2 seconds RetCode: 0 Status: OK