Package: epistack Version: 1.14.0 Command: /home/biocbuild/bbs-3.21-bioc/R/bin/R CMD build --keep-empty-dirs --no-resave-data epistack StartedAt: 2025-10-15 17:24:34 -0400 (Wed, 15 Oct 2025) EndedAt: 2025-10-15 17:26:04 -0400 (Wed, 15 Oct 2025) EllapsedTime: 90.0 seconds RetCode: 0 Status: OK PackageFile: epistack_1.14.0.tar.gz PackageFileSize: 3.757 MiB