Package: epistack Version: 1.14.0 Command: /Library/Frameworks/R.framework/Resources/bin/R CMD INSTALL epistack StartedAt: 2025-10-13 15:39:00 -0400 (Mon, 13 Oct 2025) EndedAt: 2025-10-13 15:39:42 -0400 (Mon, 13 Oct 2025) EllapsedTime: 42.1 seconds RetCode: 0 Status: OK