Package: epistack Version: 1.14.0 Command: /Library/Frameworks/R.framework/Resources/bin/R CMD build --keep-empty-dirs --no-resave-data epistack StartedAt: 2025-10-13 18:54:41 -0400 (Mon, 13 Oct 2025) EndedAt: 2025-10-13 18:58:07 -0400 (Mon, 13 Oct 2025) EllapsedTime: 205.9 seconds RetCode: 0 Status: OK PackageFile: epistack_1.14.0.tar.gz PackageFileSize: 3.945 MiB