Package: epistack Version: 1.14.0 Command: /home/biocbuild/R/R/bin/R CMD INSTALL epistack StartedAt: 2025-10-09 20:34:47 -0000 (Thu, 09 Oct 2025) EndedAt: 2025-10-09 20:35:15 -0000 (Thu, 09 Oct 2025) EllapsedTime: 28.5 seconds RetCode: 0 Status: OK