Package: epistack Version: 1.14.0 Command: /home/biocbuild/R/R/bin/R CMD check --install=check:epistack.install-out.txt --library=/home/biocbuild/R/R/site-library --no-vignettes --timings epistack_1.14.0.tar.gz StartedAt: 2025-10-10 08:43:59 -0000 (Fri, 10 Oct 2025) EndedAt: 2025-10-10 08:48:10 -0000 (Fri, 10 Oct 2025) EllapsedTime: 251.7 seconds RetCode: 0 Status: OK CheckDir: epistack.Rcheck Warnings: 0