Package: epistack Version: 1.14.0 Command: /home/biocbuild/R/R/bin/R CMD build --keep-empty-dirs --no-resave-data epistack StartedAt: 2025-10-10 00:41:14 -0000 (Fri, 10 Oct 2025) EndedAt: 2025-10-10 00:44:29 -0000 (Fri, 10 Oct 2025) EllapsedTime: 195.0 seconds RetCode: 0 Status: OK PackageFile: epistack_1.14.0.tar.gz PackageFileSize: 3.73 MiB