Package: epistack Version: 1.14.0 Command: /Library/Frameworks/R.framework/Resources/bin/R CMD check --install=check:epistack.install-out.txt --library=/Library/Frameworks/R.framework/Resources/library --no-vignettes --timings epistack_1.14.0.tar.gz StartedAt: 2025-04-21 19:18:26 -0400 (Mon, 21 Apr 2025) EndedAt: 2025-04-21 19:19:42 -0400 (Mon, 21 Apr 2025) EllapsedTime: 75.8 seconds RetCode: 0 Status: OK CheckDir: epistack.Rcheck Warnings: 0