Package: epistack Version: 1.14.0 Command: /Library/Frameworks/R.framework/Resources/bin/R CMD build --keep-empty-dirs --no-resave-data epistack StartedAt: 2025-04-21 16:17:13 -0400 (Mon, 21 Apr 2025) EndedAt: 2025-04-21 16:17:54 -0400 (Mon, 21 Apr 2025) EllapsedTime: 41.4 seconds RetCode: 0 Status: OK PackageFile: epistack_1.14.0.tar.gz PackageFileSize: 3.947 MiB