Package: epistack Version: 1.14.0 Command: rm -rf epistack.buildbin-libdir && mkdir epistack.buildbin-libdir && /Users/biocbuild/BBS/utils/build-universal.sh epistack_1.14.0.tar.gz /Library/Frameworks/R.framework/Resources/bin/R epistack.buildbin-libdir StartedAt: 2025-04-21 22:34:31 -0400 (Mon, 21 Apr 2025) EndedAt: 2025-04-21 22:34:41 -0400 (Mon, 21 Apr 2025) EllapsedTime: 10.3 seconds RetCode: 0 Status: OK PackageFile: epistack_1.14.0.tgz PackageFileSize: 2.171 MiB