Package: epiregulon Version: 1.4.0 Command: /home/biocbuild/bbs-3.21-bioc/R/bin/R CMD INSTALL epiregulon StartedAt: 2025-10-01 15:55:01 -0400 (Wed, 01 Oct 2025) EndedAt: 2025-10-01 15:55:42 -0400 (Wed, 01 Oct 2025) EllapsedTime: 40.5 seconds RetCode: 0 Status: OK