Package: epiregulon Version: 1.4.0 Command: /home/biocbuild/bbs-3.21-bioc/R/bin/R CMD check --install=check:epiregulon.install-out.txt --library=/home/biocbuild/bbs-3.21-bioc/R/site-library --timings epiregulon_1.4.0.tar.gz StartedAt: 2025-10-01 23:01:18 -0400 (Wed, 01 Oct 2025) EndedAt: 2025-10-01 23:12:43 -0400 (Wed, 01 Oct 2025) EllapsedTime: 684.8 seconds RetCode: 0 Status: OK CheckDir: epiregulon.Rcheck Warnings: 0