Package: epiregulon Version: 1.4.0 Command: rm -rf epiregulon.buildbin-libdir && mkdir epiregulon.buildbin-libdir && /Users/biocbuild/BBS/utils/build-universal.sh epiregulon_1.4.0.tar.gz /Library/Frameworks/R.framework/Resources/bin/R epiregulon.buildbin-libdir StartedAt: 2025-10-14 13:23:14 -0400 (Tue, 14 Oct 2025) EndedAt: 2025-10-14 13:25:11 -0400 (Tue, 14 Oct 2025) EllapsedTime: 117.5 seconds RetCode: 0 Status: OK PackageFile: epiregulon_1.4.0.tgz PackageFileSize: 1.377 MiB