Package: epiregulon Version: 1.4.0 Command: rm -rf epiregulon.buildbin-libdir && mkdir epiregulon.buildbin-libdir && /Users/biocbuild/BBS/utils/build-universal.sh epiregulon_1.4.0.tar.gz /Library/Frameworks/R.framework/Resources/bin/R epiregulon.buildbin-libdir StartedAt: 2025-04-22 00:44:29 -0400 (Tue, 22 Apr 2025) EndedAt: 2025-04-22 00:45:23 -0400 (Tue, 22 Apr 2025) EllapsedTime: 54.4 seconds RetCode: 0 Status: OK PackageFile: epiregulon_1.4.0.tgz PackageFileSize: 1.406 MiB