Package: epimutacions Version: 1.14.0 Command: /home/biocbuild/R/R/bin/R CMD INSTALL epimutacions StartedAt: 2025-11-13 22:11:12 -0000 (Thu, 13 Nov 2025) EndedAt: 2025-11-13 22:12:17 -0000 (Thu, 13 Nov 2025) EllapsedTime: 65.1 seconds RetCode: 0 Status: OK