Package: epimutacions Version: 1.14.0 Command: /home/biocbuild/R/R/bin/R CMD check --install=check:epimutacions.install-out.txt --library=/home/biocbuild/R/R/site-library --no-vignettes --timings epimutacions_1.14.0.tar.gz StartedAt: 2025-11-11 09:30:38 -0000 (Tue, 11 Nov 2025) EndedAt: 2025-11-11 09:39:28 -0000 (Tue, 11 Nov 2025) EllapsedTime: 530.5 seconds RetCode: 0 Status: OK CheckDir: epimutacions.Rcheck Warnings: 0