Package: epimutacions Version: 1.14.0 Command: /home/biocbuild/R/R/bin/R CMD build --keep-empty-dirs --no-resave-data epimutacions StartedAt: 2025-11-11 01:29:30 -0000 (Tue, 11 Nov 2025) EndedAt: 2025-11-11 01:33:49 -0000 (Tue, 11 Nov 2025) EllapsedTime: 259.1 seconds RetCode: 0 Status: OK PackageFile: epimutacions_1.14.0.tar.gz PackageFileSize: 1.709 MiB