Package: epimutacions Version: 1.14.0 Command: /Library/Frameworks/R.framework/Resources/bin/R CMD INSTALL epimutacions StartedAt: 2025-11-10 15:32:27 -0500 (Mon, 10 Nov 2025) EndedAt: 2025-11-10 15:32:47 -0500 (Mon, 10 Nov 2025) EllapsedTime: 20.1 seconds RetCode: 0 Status: OK