Package: epidecodeR Version: 1.18.0 Command: /home/biocbuild/bbs-3.22-bioc/R/bin/R CMD INSTALL epidecodeR StartedAt: 2025-11-17 17:36:38 -0500 (Mon, 17 Nov 2025) EndedAt: 2025-11-17 17:37:15 -0500 (Mon, 17 Nov 2025) EllapsedTime: 37.3 seconds RetCode: 0 Status: OK