Package: epidecodeR Version: 1.18.0 Command: /home/biocbuild/bbs-3.22-bioc/R/bin/R CMD build --keep-empty-dirs --no-resave-data --md5 epidecodeR StartedAt: 2025-11-17 20:52:37 -0500 (Mon, 17 Nov 2025) EndedAt: 2025-11-17 20:53:28 -0500 (Mon, 17 Nov 2025) EllapsedTime: 51.0 seconds RetCode: 0 Status: OK PackageFile: epidecodeR_1.18.0.tar.gz PackageFileSize: 2.001 MiB