Package: epialleleR Version: 1.18.0 Command: /home/biocbuild/bbs-3.22-bioc/R/bin/R CMD INSTALL epialleleR StartedAt: 2025-11-06 15:36:05 -0500 (Thu, 06 Nov 2025) EndedAt: 2025-11-06 15:37:09 -0500 (Thu, 06 Nov 2025) EllapsedTime: 64.6 seconds RetCode: 0 Status: OK