Package: epialleleR Version: 1.18.0 Command: /home/biocbuild/bbs-3.22-bioc/R/bin/R CMD check --install=check:epialleleR.install-out.txt --library=/home/biocbuild/bbs-3.22-bioc/R/site-library --timings epialleleR_1.18.0.tar.gz StartedAt: 2025-11-06 23:18:25 -0500 (Thu, 06 Nov 2025) EndedAt: 2025-11-06 23:21:17 -0500 (Thu, 06 Nov 2025) EllapsedTime: 172.1 seconds RetCode: 0 Status: OK CheckDir: epialleleR.Rcheck Warnings: 0