Package: epiNEM Version: 1.32.0 Command: /Library/Frameworks/R.framework/Resources/bin/R CMD check --install=check:epiNEM.install-out.txt --library=/Library/Frameworks/R.framework/Resources/library --no-vignettes --timings epiNEM_1.32.0.tar.gz StartedAt: 2025-10-14 03:26:07 -0400 (Tue, 14 Oct 2025) EndedAt: 2025-10-14 03:32:06 -0400 (Tue, 14 Oct 2025) EllapsedTime: 359.3 seconds RetCode: 0 Status: OK CheckDir: epiNEM.Rcheck Warnings: 0