Package: enrichplot Version: 1.29.2 Command: /home/biocbuild/R/R/bin/R CMD check --install=check:enrichplot.install-out.txt --library=/home/biocbuild/R/R/site-library --no-vignettes --timings enrichplot_1.29.2.tar.gz StartedAt: 2025-10-17 08:39:20 -0000 (Fri, 17 Oct 2025) EndedAt: 2025-10-17 08:43:06 -0000 (Fri, 17 Oct 2025) EllapsedTime: 226.1 seconds RetCode: 0 Status: WARNINGS CheckDir: enrichplot.Rcheck Warnings: 1