Package: enrichplot Version: 1.29.2 Command: F:\biocbuild\bbs-3.22-bioc\R\bin\R.exe CMD check --no-multiarch --install=check:enrichplot.install-out.txt --library=F:\biocbuild\bbs-3.22-bioc\R\library --no-vignettes --timings enrichplot_1.29.2.tar.gz StartedAt: 2025-08-15 02:57:48 -0400 (Fri, 15 Aug 2025) EndedAt: 2025-08-15 03:01:42 -0400 (Fri, 15 Aug 2025) EllapsedTime: 234.0 seconds RetCode: 0 Status: OK CheckDir: enrichplot.Rcheck Warnings: 0