Package: enhancerHomologSearch Version: 1.15.2 Command: /home/biocbuild/R/R/bin/R CMD INSTALL enhancerHomologSearch StartedAt: 2025-10-23 21:20:30 -0000 (Thu, 23 Oct 2025) EndedAt: 2025-10-23 21:27:17 -0000 (Thu, 23 Oct 2025) EllapsedTime: 407.4 seconds RetCode: 0 Status: OK