Package: enhancerHomologSearch Version: 1.15.1 Command: /home/biocbuild/R/R/bin/R CMD build --keep-empty-dirs --no-resave-data enhancerHomologSearch StartedAt: 2025-10-20 23:34:39 -0000 (Mon, 20 Oct 2025) EndedAt: 2025-10-20 23:41:47 -0000 (Mon, 20 Oct 2025) EllapsedTime: 428.1 seconds RetCode: 1 Status: ERROR PackageFile: None PackageFileSize: NA