Package: enhancerHomologSearch Version: 1.14.0 Command: /Library/Frameworks/R.framework/Resources/bin/R CMD build --keep-empty-dirs --no-resave-data enhancerHomologSearch StartedAt: 2025-10-13 18:49:35 -0400 (Mon, 13 Oct 2025) EndedAt: 2025-10-13 19:13:37 -0400 (Mon, 13 Oct 2025) EllapsedTime: 1442.6 seconds RetCode: 0 Status: OK PackageFile: enhancerHomologSearch_1.14.0.tar.gz PackageFileSize: 1.042 MiB