Package: eisaR Version: 1.21.0 Command: chmod a+r eisaR -R && F:\biocbuild\bbs-3.22-bioc\R\bin\R.exe CMD build --keep-empty-dirs --no-resave-data eisaR StartedAt: 2025-08-14 19:53:49 -0400 (Thu, 14 Aug 2025) EndedAt: 2025-08-14 19:56:33 -0400 (Thu, 14 Aug 2025) EllapsedTime: 164.0 seconds RetCode: 0 Status: OK PackageFile: eisaR_1.21.0.tar.gz PackageFileSize: 1.43 MiB