Package: eisaR Version: 1.21.0 Command: rm -rf eisaR.buildbin-libdir && mkdir eisaR.buildbin-libdir && F:\biocbuild\bbs-3.22-bioc\R\bin\R.exe CMD INSTALL --build --library=eisaR.buildbin-libdir eisaR_1.21.0.tar.gz StartedAt: 2025-08-15 10:12:40 -0400 (Fri, 15 Aug 2025) EndedAt: 2025-08-15 10:13:24 -0400 (Fri, 15 Aug 2025) EllapsedTime: 44.0 seconds RetCode: 0 Status: OK PackageFile: eisaR_1.21.0.zip PackageFileSize: 1.461 MiB